BEGIN:VCALENDAR
VERSION:2.0
PRODID:-//Tavern at Edinburgh - ECPv6.15.20//NONSGML v1.0//EN
CALSCALE:GREGORIAN
METHOD:PUBLISH
X-WR-CALNAME:Tavern at Edinburgh
X-ORIGINAL-URL:https://www.tavernatedinburgh.com
X-WR-CALDESC:Events for Tavern at Edinburgh
REFRESH-INTERVAL;VALUE=DURATION:PT1H
X-Robots-Tag:noindex
X-PUBLISHED-TTL:PT1H
BEGIN:VTIMEZONE
TZID:America/Chicago
BEGIN:DAYLIGHT
TZOFFSETFROM:-0600
TZOFFSETTO:-0500
TZNAME:CDT
DTSTART:20240310T080000
END:DAYLIGHT
BEGIN:STANDARD
TZOFFSETFROM:-0500
TZOFFSETTO:-0600
TZNAME:CST
DTSTART:20241103T070000
END:STANDARD
BEGIN:DAYLIGHT
TZOFFSETFROM:-0600
TZOFFSETTO:-0500
TZNAME:CDT
DTSTART:20250309T080000
END:DAYLIGHT
BEGIN:STANDARD
TZOFFSETFROM:-0500
TZOFFSETTO:-0600
TZNAME:CST
DTSTART:20251102T070000
END:STANDARD
BEGIN:DAYLIGHT
TZOFFSETFROM:-0600
TZOFFSETTO:-0500
TZNAME:CDT
DTSTART:20260308T080000
END:DAYLIGHT
BEGIN:STANDARD
TZOFFSETFROM:-0500
TZOFFSETTO:-0600
TZNAME:CST
DTSTART:20261101T070000
END:STANDARD
END:VTIMEZONE
BEGIN:VEVENT
DTSTART;TZID=America/Chicago:20250922T000000
DTEND;TZID=America/Chicago:20250928T235959
DTSTAMP:20260420T044844
CREATED:20250922T101218Z
LAST-MODIFIED:20250922T102305Z
UID:750-1758499200-1759103999@www.tavernatedinburgh.com
SUMMARY:Brooklyn Park 'Restaurant Week' special
DESCRIPTION:We’re participating in Brooklyn Park’s Restaurant Week 2025! \nCome in to The Tavern at Edinburgh to celebrate! Mention “Restaurant Week” when you place your order to receive these special discounts: \n\nGet 20% OFF your entire order for lunch!\nGet 20% OFF entrées for dinner!\n\nLearn more about Brooklyn Park’s Restaurant Week on our news page.
URL:https://www.tavernatedinburgh.com/calendar-event/restaurant-week-2025-special/
LOCATION:Private: Menu special
CATEGORIES:Menu special
END:VEVENT
END:VCALENDAR